BEGIN:VCALENDAR
VERSION:2.0
PRODID:-//wp-events-plugin.com//7.2.3.1//EN
TZID:Europe/London
X-WR-TIMEZONE:Europe/London
BEGIN:VEVENT
UID:851@swingerstaboo.com
DTSTART;TZID=Europe/Rome:20250710T223000
DTEND;TZID=Europe/Rome:20250710T030000
DTSTAMP:20250626T204252Z
URL:https://www.swingerstaboo.com/events/wife-offered-2025-07-03-2025-07-1
 0/
SUMMARY:Lady Bsx
DESCRIPTION:There are offers you can't refuse...\n\nBad Romance Swingers Cl
 ub\n(ROME-ITALY) Via Beniamino Franklin 3/A\ninfo +39 351 8867950\n\nWe ar
 e waiting for you at our club for an evening of intimacy and transgression
 \nEVERY EVENING FROM 10.30 PM\n\nome and visit us on our website and follo
 w us on our socials.\n\nOur Web Site/Nostro sito web\nhttps://www.BadRoman
 ceClub.com\n\nTelegram Channel:\nhttps://t.me/badromancerome\n\nTwitter(X.
 com):\nhttps://x.com/SwingersBad\n\nInstagram:\nhttps://www.instagram.com/
 swingersclubrome/
ATTACH;FMTTYPE=image/jpeg:https://www.swingerstaboo.com/wp-content/uploads
 /2025/01/sc_giovedi-ladybsx.jpg
CATEGORIES:Swingers Club
LOCATION:Bad Romance Swingers Club Rome\, Via Beniamino Franklin 3/a\, Rome
 \, Itali\, 00153\, Lazio\, Italy
X-APPLE-STRUCTURED-LOCATION;VALUE=URI;X-ADDRESS=Via Beniamino Franklin 3/a\
 , Rome\, Itali\, 00153\, Lazio\, Italy;X-APPLE-RADIUS=100;X-TITLE=Bad Roma
 nce Swingers Club Rome:geo:0,0
END:VEVENT
BEGIN:VTIMEZONE
TZID:Europe/Rome
X-LIC-LOCATION:Europe/Rome
BEGIN:DAYLIGHT
DTSTART:20250330T030000
TZOFFSETFROM:+0100
TZOFFSETTO:+0200
TZNAME:CEST
END:DAYLIGHT
END:VTIMEZONE
END:VCALENDAR