BEGIN:VCALENDAR
VERSION:2.0
PRODID:-//wp-events-plugin.com//7.2.3.1//EN
TZID:Europe/London
X-WR-TIMEZONE:Europe/London
BEGIN:VEVENT
UID:24@swingerstaboo.com
DTSTART;TZID=Europe/Rome:20241031T223000
DTEND;TZID=Europe/Rome:20241101T030000
DTSTAMP:20241019T165142Z
URL:https://www.swingerstaboo.com/events/halloween-party-trick-or-treat/
SUMMARY:Halloween Party! Trick or Treat ?
DESCRIPTION:Come and spend a more transgressive night than the others at th
 e Bad Romance Swingers Club\n\nA Halloween where you can let your passion 
 explode and play on the most haunted night of the year.\n\nWe will distrib
 ute the sweets. It's up to you to choose who to trick or treat with
ATTACH;FMTTYPE=image/jpeg:https://www.swingerstaboo.com/wp-content/uploads
 /2024/10/br_halloween.jpg
CATEGORIES:Swingers Club
LOCATION:Bad Romance Swingers Club Rome\, Via Beniamino Franklin 3/a\, Rome
 \, Itali\, 00153\, Lazio\, Italy
X-APPLE-STRUCTURED-LOCATION;VALUE=URI;X-ADDRESS=Via Beniamino Franklin 3/a\
 , Rome\, Itali\, 00153\, Lazio\, Italy;X-APPLE-RADIUS=100;X-TITLE=Bad Roma
 nce Swingers Club Rome:geo:0,0
END:VEVENT
BEGIN:VTIMEZONE
TZID:Europe/Rome
X-LIC-LOCATION:Europe/Rome
BEGIN:STANDARD
DTSTART:20241027T020000
TZOFFSETFROM:+0200
TZOFFSETTO:+0100
TZNAME:CET
END:STANDARD
END:VTIMEZONE
END:VCALENDAR